BEGIN:VCALENDAR
VERSION:2.0
PRODID:-//hacksw/handcal//NONSGML v1.0//EN
BEGIN:VEVENT
SUMMARY:Stage sportif Adultes - Vacances d'avril 2026
UID:7fc436fa-e97e-4212-b1f1-f3a3b9647d57
DTSTART:20260427T170000Z
DTEND:20260430T193000Z
LOCATION:Localisation   
CATEGORIES:Stage
STATUS:
URL;VALUE=URI:https://www.chavilletiralarc.com/evenements/2026/04/27/stage-sportif-adultes-vacances-davril-2026-2440274
END:VEVENT
END:VCALENDAR
